Workbook
Name BinDivisor: 'SNA Metrics'!$AC$2
Name DynamicFilterForceCalculationRange: 'SNA Metrics'!$U$81:$V$82
Name DynamicFilterSourceColumnRange: 'SNA Metrics'!$AC$4
Name NoMetricMessage: 'SNA Metrics'!$AC$3
Name NotAvailable: 'SNA Metrics'!$AC$2
Name searchTerm: Readme_Settings!$B$9

Sheet Archive
A1: Tweet Order (1 = oldest, 1313 = newest) | B1: id_str | C1: from_user | D1: text | E1: created_at | F1: time | G1: geo_coordinates | H1: user_lang | I1: in_reply_to_user_id_str | J1: in_reply_to_screen_name | K1: from_user_id_str | L1: in_reply_to_status_id_str | M1: source | N1: profile_image_url | O1: user_followers_count | P1: user_friends_count | Q1: user_utc_offset | R1: status_url | S1: entities_str | T1: Retweets (Begins with RT) | U1: DummyCode Retweet | V1: MostRetweets | W1: DummyCodeLink | X1: url
A2: 1 | B2: 433240138630852608 | C2: abbaspeaks | D2: One week to #OERS14 .. Back in conference mode soon. (@ Ontario Research and Innovation Optical Network ( ORION )) http://t.co/Su9nq3WV6y | E2: Tue Feb 11 14:04:32 +0000 2014 | F2: 41681.586 | G2: loc: 43.6508236,-79.38137019 | H2: en | K2: 203543496 | M2: <a href="http://foursquare.com" rel="nofollow">foursquare</a> | N2: http://pbs.twimg.com/profile_images/420650358310838272/SYeVCvzi_normal.jpeg | O2: 389 | P2: 531 | Q2: -28800 | R2: http://twitter.com/abbaspeaks/statuses/433240138630852608 | S2: {"symbols":[],"urls":[{"expanded_url":"http://4sq.com/1fWpdl5","indices":[115,137],"display_url":"4sq.com/1fWpdl5","url":"http://t.co/Su9nq3WV6y"}],"hashtags":[{"text":"OERS14","indices":[12,19]}],"user_mentions":[]} | T2: =LEFT(D2,3) -> One | U2: =IF(SEARCH("RT", T2),1,0) -> #VALUE! | V2: =LEFT(D2,35) -> One week to #OERS14 .. Back in conf | W2: =IF(SEARCH("http:", D2),1,0) -> 1 | X2: ="http:"&MID(D2,FIND("/",D2,8),LEN(D2)+1-FIND("/",D2,8)) -> http://t.co/Su9nq3WV6y
A3: 2 | B3: 434419690295664640 | C3: DanaStClair | D3: Super excited about the exhibits at #OERS14 !! Can't wait to see everyone next week :) | E3: Fri Feb 14 20:11:39 +0000 2014 | F3: 41684.841 | H3: en | K3: 30171986 | M3: web | N3: http://pbs.twimg.com/profile_images/132889748/233044_normal.jpg | O3: 30 | P3: 76 | Q3: -18000 | R3: http://twitter.com/DanaStClair/statuses/434419690295664640 | S3: {"symbols":[],"urls":[],"hashtags":[{"text":"OERS14","indices":[36,43]}],"user_mentions":[]} | T3: =LEFT(D3,3) -> Sup | U3: =IF(SEARCH("RT", T3),1,0) -> #VALUE! | V3: =LEFT(D3,35) -> Super excited about the exhibits at | W3: =IF(SEARCH("http:", D3),1,0) -> #VALUE!
A4: 3 | B4: 435253821090979840 | C4: KNAER_RECRAE | D4: We'll be at #OERS14 this week! http://t.co/CWIf7knjFu Stay tuned for live updates &amp; maybe even some photos @OISENews @westernuEdu | E4: Mon Feb 17 03:26:12 +0000 2014 | F4: 41687.143 | H4: en | K4: 1020257364 | M4: web | N4: http://pbs.twimg.com/profile_images/2991816416/bfc82e11ecb1ae7933cf18dab2e03eb9_normal.png | O4: 193 | P4: 247 | Q4: -18000 | R4: http://twitter.com/KNAER_RECRAE/statuses/435253821090979840 | S4: {"symbols":[],"urls":[{"expanded_url":"http://bit.ly/M5mKeG","indices":[31,53],"display_url":"bit.ly/M5mKeG","url":"http://t.co/CWIf7knjFu"}],"hashtags":[{"text":"OERS14","indices":[12,19]}],"user_mentions":[{"id":120129298,"name":"OISE News","indices":[111,120],"screen_name":"OISENews","id_str":"120129298"},{"id":68163264,"name":"Western - Fac of Ed","indices":[121,133],"screen_name":"westernuEdu","id_str":"68163264"}]} | T4: =LEFT(D4,3) -> We' | U4: =IF(SEARCH("RT", T4),1,0) -> #VALUE! | V4: =LEFT(D4,35) -> We'll be at #OERS14 this week! http | W4: =IF(SEARCH("http:", D4),1,0) -> 1 | X4: ="http:"&MID(D4,FIND("/",D4,8),LEN(D4)+1-FIND("/",D4,8)) -> http://t.co/CWIf7knjFu Stay tuned for live updates &amp; maybe even some photos @OISENews @westernuEdu
A5: 4 | B5: 435254220770377728 | C5: KNAER_RECRAE | D5: #OERS14 this week! http://t.co/CWIf7knjFu Stay tuned for live updates &amp; maybe even some photos @DrKatinaPollock @ShastaCH @CarolCampbell4 | E5: Mon Feb 17 03:27:47 +0000 2014 | F5: 41687.144 | H5: en | K5: 1020257364 | M5: web | N5: http://pbs.twimg.com/profile_images/2991816416/bfc82e11ecb1ae7933cf18dab2e03eb9_normal.png | O5: 193 | P5: 247 | Q5: -18000 | R5: http://twitter.com/KNAER_RECRAE/statuses/435254220770377728 | S5: {"symbols":[],"urls":[{"expanded_url":"http://bit.ly/M5mKeG","indices":[19,41],"display_url":"bit.ly/M5mKeG","url":"http://t.co/CWIf7knjFu"}],"hashtags":[{"text":"OERS14","indices":[0,7]}],"user_mentions":[{"id":636460073,"name":"Katina Pollock","indices":[99,115],"screen_name":"DrKatinaPollock","id_str":"636460073"},{"id":129585627,"name":"Shasta Carr-Harris","indices":[116,125],"screen_name":"ShastaCH","id_str":"129585627"},{"id":300645437,"name":"Carol Campbell","indices":[126,141],"screen_name":"CarolCampbell4","id_str":"300645437"}]} | T5: =LEFT(D5,3) -> #OE | U5: =IF(SEARCH("RT", T5),1,0) -> #VALUE! | V5: =LEFT(D5,35) -> #OERS14 this week! http://t.co/CWIf | W5: =IF(SEARCH("http:", D5),1,0) -> 1 | X5: ="http:"&MID(D5,FIND("/",D5,8),LEN(D5)+1-FIND("/",D5,8)) -> http://t.co/CWIf7knjFu Stay tuned for live updates &amp; maybe even some photos @DrKatinaPollock @ShastaCH @CarolCampbell4
A6: 5 | B6: 435254620865429504 | C6: CarolCampbell4 | D6: Getting ready! RT @KNAER_RECRAE: We'll be at #OERS14 this week! http://t.co/4PqWWStb7h Stay tuned for live updates @OISENews @westernuEdu” | E6: Mon Feb 17 03:29:22 +0000 2014 | F6: 41687.145 | H6: en | I6: 1020257364 | J6: KNAER_RECRAE | K6: 300645437 | L6: 435253821090979840 | M6: <a href="http://twitter.com/#!/download/ipad" rel="nofollow">Twitter for iPad</a> | N6: http://pbs.twimg.com/profile_images/3691905443/d17541206d2df83dd49f40e17076abbc_normal.jpeg | O6: 737 | P6: 316 | Q6: -18000 | R6: http://twitter.com/CarolCampbell4/statuses/435254620865429504 | S6: {"symbols":[],"urls":[{"expanded_url":"http://bit.ly/M5mKeG","indices":[64,86],"display_url":"bit.ly/M5mKeG","url":"http://t.co/4PqWWStb7h"}],"hashtags":[{"text":"OERS14","indices":[45,52]}],"user_mentions":[{"id":1020257364,"name":"KNAER-RECRAE","indices":[18,31],"screen_name":"KNAER_RECRAE","id_str":"1020257364"},{"id":120129298,"name":"OISE News","indices":[115,124],"screen_name":"OISENews","id_str":"120129298"},{"id":68163264,"name":"Western - Fac of Ed","indices":[125,137],"screen_name":"westernuEdu","id_str":"68163264"}]} | T6: =LEFT(D6,3) -> Get | U6: =IF(SEARCH("RT", T6),1,0) -> #VALUE! | V6: =LEFT(D6,35) -> Getting ready! RT @KNAER_RECRAE: We | W6: =IF(SEARCH("http:", D6),1,0) -> 1 | X6: ="http:"&MID(D6,FIND("/",D6,8),LEN(D6)+1-FIND("/",D6,8)) -> http://t.co/4PqWWStb7h Stay tuned for live updates @OISENews @westernuEdu”
A7: 6 | B7: 435255912392294400 | C7: CarolCampbell4 | D7: Looking forward to RT @KNAER_RECRAE #OERS14 this week! http://t.co/4PqWWStb7h Updates from @DrKatinaPollock @ShastaCH @CarolCampbell4 #onted | E7: Mon Feb 17 03:34:30 +0000 2014 | F7: 41687.149 | H7: en | I7: 1020257364 | J7: KNAER_RECRAE | K7: 300645437 | L7: 435254220770377728 | M7: <a href="http://twitter.com/#!/download/ipad" rel="nofollow">Twitter for iPad</a> | N7: http://pbs.twimg.com/profile_images/3691905443/d17541206d2df83dd49f40e17076abbc_normal.jpeg | O7: 737 | P7: 316 | Q7: -18000 | R7: http://twitter.com/CarolCampbell4/statuses/435255912392294400 | S7: {"symbols":[],"urls":[{"expanded_url":"http://bit.ly/M5mKeG","indices":[55,77],"display_url":"bit.ly/M5mKeG","url":"http://t.co/4PqWWStb7h"}],"hashtags":[{"text":"OERS14","indices":[36,43]},{"text":"onted","indices":[134,140]}],"user_mentions":[{"id":1020257364,"name":"KNAER-RECRAE","indices":[22,35],"screen_name":"KNAER_RECRAE","id_str":"1020257364"},{"id":636460073,"name":"Katina Pollock","indices":[91,107],"screen_name":"DrKatinaPollock","id_str":"636460073"},{"id":129585627,"name":"Shasta Carr-Harris","indices":[108,117],"screen_name":"ShastaCH","id_str":"129585627"},{"id":300645437,"name":"Carol Campbell","indices":[118,133],"screen_name":"CarolCampbell4","id_str":"300645437"}]} | T7: =LEFT(D7,3) -> Loo | U7: =IF(SEARCH("RT", T7),1,0) -> #VALUE! | V7: =LEFT(D7,35) -> Looking forward to RT @KNAER_RECRAE | W7: =IF(SEARCH("http:", D7),1,0) -> 1 | X7: ="http:"&MID(D7,FIND("/",D7,8),LEN(D7)+1-FIND("/",D7,8)) -> http://t.co/4PqWWStb7h Updates from @DrKatinaPollock @ShastaCH @CarolCampbell4 #onted
A8: 7 | B8: 435270599112687616 | C8: drcathybruce | D8: Looking forward to #OERS14 @KNAER_RECRAE @dtapscott with focus on knowledge mobilization and great Ontario research | E8: Mon Feb 17 04:32:52 +0000 2014 | F8: 41687.189 | G8: loc: 45.94429796,-75.88182703 | H8: en | K8: 1264968134 | M8: <a href="http://twitter.com/download/iphone" rel="nofollow">Twitter for iPhone</a> | N8: http://pbs.twimg.com/profile_images/432644858201657344/yt5yBNO9_normal.png | O8: 577 | P8: 371 | R8: http://twitter.com/drcathybruce/statuses/435270599112687616 | S8: {"symbols":[],"urls":[],"hashtags":[{"text":"OERS14","indices":[19,26]}],"user_mentions":[{"id":1020257364,"name":"KNAER-RECRAE","indices":[27,40],"screen_name":"KNAER_RECRAE","id_str":"1020257364"},{"id":14128528,"name":"Don Tapscott","indices":[41,51],"screen_name":"dtapscott","id_str":"14128528"}]} | T8: =LEFT(D8,3) -> Loo | U8: =IF(SEARCH("RT", T8),1,0) -> #VALUE! | V8: =LEFT(D8,35) -> Looking forward to #OERS14 @KNAER_R | W8: =IF(SEARCH("http:", D8),1,0) -> #VALUE!
A9: 8 | B9: 435391753244647424 | C9: DrKatinaPollock | D9: RT @KNAER_RECRAE: We'll be at #OERS14 this week! http://t.co/CWIf7knjFu Stay tuned for live updates &amp; maybe even some photos @OISENews @wes… | E9: Mon Feb 17 12:34:17 +0000 2014 | F9: 41687.524 | H9: en | K9: 636460073 | M9: web | N9: http://pbs.twimg.com/profile_images/378800000769246947/3a548e76741de390217e1421e5ba48af_normal.jpeg | O9: 146 | P9: 298 | Q9: -18000 | R9: http://twitter.com/DrKatinaPollock/statuses/435391753244647424 | S9: {"symbols":[],"urls":[{"expanded_url":"http://bit.ly/M5mKeG","indices":[49,71],"display_url":"bit.ly/M5mKeG","url":"http://t.co/CWIf7knjFu"}],"hashtags":[{"text":"OERS14","indices":[30,37]}],"user_mentions":[{"id":1020257364,"name":"KNAER-RECRAE","indices":[3,16],"screen_name":"KNAER_RECRAE","id_str":"1020257364"},{"id":120129298,"name":"OISE News","indices":[129,138],"screen_name":"OISENews","id_str":"120129298"},{"id":68163264,"name":"Western - Fac of Ed","indices":[139,144],"screen_name":"westernuEdu","id_str":"68163264"}]} | T9: =LEFT(D9,3) -> RT | U9: =IF(SEARCH("RT", T9),1,0) -> 1 | V9: =LEFT(D9,35) -> RT @KNAER_RECRAE: We'll be at #OERS | W9: =IF(SEARCH("http:", D9),1,0) -> 1 | X9: ="http:"&MID(D9,FIND("/",D9,8),LEN(D9)+1-FIND("/",D9,8)) -> http://t.co/CWIf7knjFu Stay tuned for live updates &amp; maybe even some photos @OISENews @wes…
A10: 9 | B10: 435391793623220224 | C10: DrKatinaPollock | D10: RT @KNAER_RECRAE: #OERS14 this week! http://t.co/CWIf7knjFu Stay tuned for live updates &amp; maybe even some photos @DrKatinaPollock @ShastaCH… | E10: Mon Feb 17 12:34:27 +0000 2014 | F10: 41687.524 | H10: en | K10: 636460073 | M10: web | N10: http://pbs.twimg.com/profile_images/378800000769246947/3a548e76741de390217e1421e5ba48af_normal.jpeg | O10: 146 | P10: 298 | Q10: -18000 | R10: http://twitter.com/DrKatinaPollock/statuses/435391793623220224 | S10: {"symbols":[],"urls":[{"expanded_url":"http://bit.ly/M5mKeG","indices":[37,59],"display_url":"bit.ly/M5mKeG","url":"http://t.co/CWIf7knjFu"}],"hashtags":[{"text":"OERS14","indices":[18,25]}],"user_mentions":[{"id":1020257364,"name":"KNAER-RECRAE","indices":[3,16],"screen_name":"KNAER_RECRAE","id_str":"1020257364"},{"id":636460073,"name":"Katina Pollock","indices":[117,133],"screen_name":"DrKatinaPollock","id_str":"636460073"},{"id":129585627,"name":"Shasta Carr-Harris","indices":[134,143],"screen_name":"ShastaCH","id_str":"129585627"},{"id":300645437,"name":"Carol Campbell","indices":[143,144],"screen_name":"CarolCampbell4","id_str":"300645437"}]} | T10: =LEFT(D10,3) -> RT | U10: =IF(SEARCH("RT", T10),1,0) -> 1 | V10: =LEFT(D10,35) -> RT @KNAER_RECRAE: #OERS14 this week | W10: =IF(SEARCH("http:", D10),1,0) -> 1 | X10: ="http:"&MID(D10,FIND("/",D10,8),LEN(D10)+1-FIND("/",D10,8)) -> http://t.co/CWIf7knjFu Stay tuned for live updates &amp; maybe even some photos @DrKatinaPollock @ShastaCH…
A11: 10 | B11: 435405054237892610 | C11: ShastaCH | D11: RT @KNAER_RECRAE: #OERS14 this week! http://t.co/CWIf7knjFu Stay tuned for live updates &amp; maybe even some photos @DrKatinaPollock @ShastaCH… | E11: Mon Feb 17 13:27:09 +0000 2014 | F11: 41687.561 | H11: en | K11: 129585627 | M11: <a href="http://twitter.com/download/iphone" rel="nofollow">Twitter for iPhone</a> | N11: http://pbs.twimg.com/profile_images/2272274611/5wd7gucvwq2weh35c02q_normal.jpeg | O11: 149 | P11: 97 | Q11: -21600 | R11: http://twitter.com/ShastaCH/statuses/435405054237892610 | S11: {"symbols":[],"urls":[{"expanded_url":"http://bit.ly/M5mKeG","indices":[37,59],"display_url":"bit.ly/M5mKeG","url":"http://t.co/CWIf7knjFu"}],"hashtags":[{"text":"OERS14","indices":[18,25]}],"user_mentions":[{"id":1020257364,"name":"KNAER-RECRAE","indices":[3,16],"screen_name":"KNAER_RECRAE","id_str":"1020257364"},{"id":636460073,"name":"Katina Pollock","indices":[117,133],"screen_name":"DrKatinaPollock","id_str":"636460073"},{"id":129585627,"name":"Shasta Carr-Harris","indices":[134,143],"screen_name":"ShastaCH","id_str":"129585627"},{"id":300645437,"name":"Carol Campbell","indices":[143,144],"screen_name":"CarolCampbell4","id_str":"300645437"}]} | T11: =LEFT(D11,3) -> RT | U11: =IF(SEARCH("RT", T11),1,0) -> 1 | V11: =LEFT(D11,35) -> RT @KNAER_RECRAE: #OERS14 this week | W11: =IF(SEARCH("http:", D11),1,0) -> 1 | X11: ="http:"&MID(D11,FIND("/",D11,8),LEN(D11)+1-FIND("/",D11,8)) -> http://t.co/CWIf7knjFu Stay tuned for live updates &amp; maybe even some photos @DrKatinaPollock @ShastaCH…
A12: 11 | B12: 435405174232735745 | C12: ShastaCH | D12: RT @CarolCampbell4: Looking forward to RT @KNAER_RECRAE #OERS14 this week! http://t.co/4PqWWStb7h Updates from @DrKatinaPollock @ShastaCH @… | E12: Mon Feb 17 13:27:37 +0000 2014 | F12: 41687.561 | H12: en | K12: 129585627 | M12: <a href="http://twitter.com/download/iphone" rel="nofollow">Twitter for iPhone</a> | N12: http://pbs.twimg.com/profile_images/2272274611/5wd7gucvwq2weh35c02q_normal.jpeg | O12: 149 | P12: 97 | Q12: -21600 | R12: http://twitter.com/ShastaCH/statuses/435405174232735745 | S12: {"symbols":[],"urls":[{"expanded_url":"http://bit.ly/M5mKeG","indices":[75,97],"display_url":"bit.ly/M5mKeG","url":"http://t.co/4PqWWStb7h"}],"hashtags":[{"text":"OERS14","indices":[56,63]},{"text":"onted","indices":[139,140]}],"user_mentions":[{"id":300645437,"name":"Carol Campbell","indices":[3,18],"screen_name":"CarolCampbell4","id_str":"300645437"},{"id":1020257364,"name":"KNAER-RECRAE","indices":[42,55],"screen_name":"KNAER_RECRAE","id_str":"1020257364"},{"id":636460073,"name":"Katina Pollock","indices":[111,127],"screen_name":"DrKatinaPollock","id_str":"636460073"},{"id":129585627,"name":"Shasta Carr-Harris","indices":[128,137],"screen_name":"ShastaCH","id_str":"129585627"},{"id":300645437,"name":"Carol Campbell","indices":[139,140],"screen_name":"CarolCampbell4","id_str":"300645437"}]} | T12: =LEFT(D12,3) -> RT | U12: =IF(SEARCH("RT", T12),1,0) -> 1 | V12: =LEFT(D12,35) -> RT @CarolCampbell4: Looking forward | W12: =IF(SEARCH("http:", D12),1,0) -> 1 | X12: ="http:"&MID(D12,FIND("/",D12,8),LEN(D12)+1-FIND("/",D12,8)) -> http://t.co/4PqWWStb7h Updates from @DrKatinaPollock @ShastaCH @…
A13: 12 | B13: 435421726227189761 | C13: OISENews | D13: RT @CarolCampbell4: Getting ready! RT @KNAER_RECRAE: We'll be at #OERS14 this week! http://t.co/4PqWWStb7h Stay tuned for live updates @OIS… | E13: Mon Feb 17 14:33:23 +0000 2014 | F13: 41687.607 | H13: en | K13: 120129298 | M13: <a href="https://mobile.twitter.com" rel="nofollow">Mobile Web (M5)</a> | N13: http://pbs.twimg.com/profile_images/378800000483716901/60cd288ab1fab8f218956809a7735be6_normal.jpeg | O13: 3668 | P13: 1401 | Q13: -18000 | R13: http://twitter.com/OISENews/statuses/435421726227189761 | S13: {"symbols":[],"urls":[{"expanded_url":"http://bit.ly/M5mKeG","indices":[84,106],"display_url":"bit.ly/M5mKeG","url":"http://t.co/4PqWWStb7h"}],"hashtags":[{"text":"OERS14","indices":[65,72]}],"user_mentions":[{"id":300645437,"name":"Carol Campbell","indices":[3,18],"screen_name":"CarolCampbell4","id_str":"300645437"},{"id":1020257364,"name":"KNAER-RECRAE","indices":[38,51],"screen_name":"KNAER_RECRAE","id_str":"1020257364"},{"id":120129298,"name":"OISE News","indices":[135,140],"screen_name":"OISENews","id_str":"120129298"},{"id":68163264,"name":"Western - Fac of Ed","indices":[139,140],"screen_name":"westernuEdu","id_str":"68163264"}]} | T13: =LEFT(D13,3) -> RT | U13: =IF(SEARCH("RT", T13),1,0) -> 1 | V13: =LEFT(D13,35) -> RT @CarolCampbell4: Getting ready! | W13: =IF(SEARCH("http:", D13),1,0) -> 1 | X13: ="http:"&MID(D13,FIND("/",D13,8),LEN(D13)+1-FIND("/",D13,8)) -> http://t.co/4PqWWStb7h Stay tuned for live updates @OIS…
A14: 13 | B14: 435422260690550784 | C14: OISENews | D14: RT @KNAER_RECRAE: #OERS14 this week! http://t.co/CWIf7knjFu Stay tuned for live updates &amp; maybe even some photos @DrKatinaPollock @ShastaCH… | E14: Mon Feb 17 14:35:31 +0000 2014 | F14: 41687.608 | H14: en | K14: 120129298 | M14: <a href="https://mobile.twitter.com" rel="nofollow">Mobile Web (M5)</a> | N14: http://pbs.twimg.com/profile_images/378800000483716901/60cd288ab1fab8f218956809a7735be6_normal.jpeg | O14: 3668 | P14: 1401 | Q14: -18000 | R14: http://twitter.com/OISENews/statuses/435422260690550784 | S14: {"symbols":[],"urls":[{"expanded_url":"http://bit.ly/M5mKeG","indices":[37,59],"display_url":"bit.ly/M5mKeG","url":"http://t.co/CWIf7knjFu"}],"hashtags":[{"text":"OERS14","indices":[18,25]}],"user_mentions":[{"id":1020257364,"name":"KNAER-RECRAE","indices":[3,16],"screen_name":"KNAER_RECRAE","id_str":"1020257364"},{"id":636460073,"name":"Katina Pollock","indices":[117,133],"screen_name":"DrKatinaPollock","id_str":"636460073"},{"id":129585627,"name":"Shasta Carr-Harris","indices":[134,143],"screen_name":"ShastaCH","id_str":"129585627"},{"id":300645437,"name":"Carol Campbell","indices":[143,144],"screen_name":"CarolCampbell4","id_str":"300645437"}]} | T14: =LEFT(D14,3) -> RT | U14: =IF(SEARCH("RT", T14),1,0) -> 1 | V14: =LEFT(D14,35) -> RT @KNAER_RECRAE: #OERS14 this week | W14: =IF(SEARCH("http:", D14),1,0) -> 1 | X14: ="http:"&MID(D14,FIND("/",D14,8),LEN(D14)+1-FIND("/",D14,8)) -> http://t.co/CWIf7knjFu Stay tuned for live updates &amp; maybe even some photos @DrKatinaPollock @ShastaCH…
A15: 14 | B15: 435731795876016128 | C15: DanaStClair | D15: #oers14 today is the day!! | E15: Tue Feb 18 11:05:30 +0000 2014 | F15: 41688.462 | H15: en | K15: 30171986 | M15: <a href="http://twitter.com/download/iphone" rel="nofollow">Twitter for iPhone</a> | N15: http://pbs.twimg.com/profile_images/132889748/233044_normal.jpg | O15: 30 | P15: 76 | Q15: -18000 | R15: http://twitter.com/DanaStClair/statuses/435731795876016128 | S15: {"symbols":[],"urls":[],"hashtags":[{"text":"oers14","indices":[0,7]}],"user_mentions":[]} | T15: =LEFT(D15,3) -> #oe | U15: =IF(SEARCH("RT", T15),1,0) -> #VALUE! | V15: =LEFT(D15,35) -> #oers14 today is the day!! | W15: =IF(SEARCH("http:", D15),1,0) -> #VALUE!
A16: 15 | B16: 435758730752176128 | C16: ShastaCH | D16: RT @abbaspeaks: One week to #OERS14 .. Back in conference mode soon. (@ Ontario Research and Innovation Optical Network ( ORION )) http://t… | E16: Tue Feb 18 12:52:32 +0000 2014 | F16: 41688.536 | H16: en | K16: 129585627 | M16: <a href="http://twitter.com/download/iphone" rel="nofollow">Twitter for iPhone</a> | N16: http://pbs.twimg.com/profile_images/2272274611/5wd7gucvwq2weh35c02q_normal.jpeg | O16: 149 | P16: 97 | Q16: -21600 | R16: http://twitter.com/ShastaCH/statuses/435758730752176128 | S16: {"symbols":[],"urls":[{"expanded_url":"http://4sq.com/1fWpdl5","indices":[139,140],"display_url":"4sq.com/1fWpdl5","url":"http://t.co/Su9nq3WV6y"}],"hashtags":[{"text":"OERS14","indices":[28,35]}],"user_mentions":[{"id":203543496,"name":"/-\\ l i @bbas","indices":[3,14],"screen_name":"abbaspeaks","id_str":"203543496"}]} | T16: =LEFT(D16,3) -> RT | U16: =IF(SEARCH("RT", T16),1,0) -> 1 | V16: =LEFT(D16,35) -> RT @abbaspeaks: One week to #OERS14 | W16: =IF(SEARCH("http:", D16),1,0) -> 1 | X16: ="http:"&MID(D16,FIND("/",D16,8),LEN(D16)+1-FIND("/",D16,8)) -> http://t…
A17: 16 | B17: 435758814491443200 | C17: ShastaCH | D17: RT @drcathybruce: Looking forward to #OERS14 @KNAER_RECRAE @dtapscott with focus on knowledge mobilization and great Ontario research | E17: Tue Feb 18 12:52:52 +0000 2014 | F17: 41688.537 | H17: en | K17: 129585627 | M17: <a href="http://twitter.com/download/iphone" rel="nofollow">Twitter for iPhone</a> | N17: http://pbs.twimg.com/profile_images/2272274611/5wd7gucvwq2weh35c02q_normal.jpeg | O17: 149 | P17: 97 | Q17: -21600 | R17: http://twitter.com/ShastaCH/statuses/435758814491443200 | S17: {"symbols":[],"urls":[],"hashtags":[{"text":"OERS14","indices":[37,44]}],"user_mentions":[{"id":1264968134,"name":"Cathy Bruce","indices":[3,16],"screen_name":"drcathybruce","id_str":"1264968134"},{"id":1020257364,"name":"KNAER-RECRAE","indices":[45,58],"screen_name":"KNAER_RECRAE","id_str":"1020257364"},{"id":14128528,"name":"Don Tapscott","indices":[59,69],"screen_name":"dtapscott","id_str":"14128528"}]} | T17: =LEFT(D17,3) -> RT | U17: =IF(SEARCH("RT", T17),1,0) -> 1 | V17: =LEFT(D17,35) -> RT @drcathybruce: Looking forward t | W17: =IF(SEARCH("http:", D17),1,0) -> #VALUE!
A18: 17 | B18: 435758880295907328 | C18: ShastaCH | D18: RT @DanaStClair: #oers14 today is the day!! | E18: Tue Feb 18 12:53:07 +0000 2014 | F18: 41688.537 | H18: en | K18: 129585627 | M18: <a href="http://twitter.com/download/iphone" rel="nofollow">Twitter for iPhone</a> | N18: http://pbs.twimg.com/profile_images/2272274611/5wd7gucvwq2weh35c02q_normal.jpeg | O18: 149 | P18: 97 | Q18: -21600 | R18: http://twitter.com/ShastaCH/statuses/435758880295907328 | S18: {"symbols":[],"urls":[],"hashtags":[{"text":"oers14","indices":[17,24]}],"user_mentions":[{"id":30171986,"name":"Dana S","indices":[3,15],"screen_name":"DanaStClair","id_str":"30171986"}]} | T18: =LEFT(D18,3) -> RT | U18: =IF(SEARCH("RT", T18),1,0) -> 1 | V18: =LEFT(D18,35) -> RT @DanaStClair: #oers14 today is t | W18: =IF(SEARCH("http:", D18),1,0) -> #VALUE!
A19: 18 | B19: 435781183944024064 | C19: ResearchChat | D19: Looking forward to #OERS14. A log of tweets (updated every hour) is available here: http://t.co/0vOI9BYwfw #ResearchChat | E19: Tue Feb 18 14:21:45 +0000 2014 | F19: 41688.598 | H19: en | K19: 30002337 | M19: <a href="http://www.hootsuite.com" rel="nofollow">HootSuite</a> | N19: http://pbs.twimg.com/profile_images/146956830/Lighthouse_Lens2_normal.png | O19: 363 | P19: 169 | Q19: -18000 | R19: http://twitter.com/ResearchChat/statuses/435781183944024064 | S19: {"symbols":[],"urls":[{"expanded_url":"http://ow.ly/tK2FR","indices":[87,109],"display_url":"ow.ly/tK2FR","url":"http://t.co/0vOI9BYwfw"}],"hashtags":[{"text":"OERS14","indices":[19,26]},{"text":"ResearchChat","indices":[110,123]}],"user_mentions":[]} | T19: =LEFT(D19,3) -> Loo | U19: =IF(SEARCH("RT", T19),1,0) -> #VALUE! | V19: =LEFT(D19,35) -> Looking forward to #OERS14. A log | W19: =IF(SEARCH("http:", D19),1,0) -> 1 | X19: ="http:"&MID(D19,FIND("/",D19,8),LEN(D19)+1-FIND("/",D19,8)) -> http://t.co/0vOI9BYwfw #ResearchChat
A20: 19 | B20: 435782024767369217 | C20: MISABarrie | D20: The Ontario Education Research Symposium 2014 begins tonight. Follow the discussion at #OERS14 | E20: Tue Feb 18 14:25:05 +0000 2014 | F20: 41688.601 | H20: en | K20: 861759625 | M20: web | N20: http://pbs.twimg.com/profile_images/3526591015/ce7cb0bddc152f41e5ccd02b45f322fa_normal.jpeg | O20: 68 | P20: 27 | Q20: -14400 | R20: http://twitter.com/MISABarrie/statuses/435782024767369217 | S20: {"symbols":[],"urls":[],"hashtags":[{"text":"OERS14","indices":[88,95]}],"user_mentions":[]} | T20: =LEFT(D20,3) -> The | U20: =IF(SEARCH("RT", T20),1,0) -> #VALUE! | V20: =LEFT(D20,35) -> The Ontario Education Research Symp | W20: =IF(SEARCH("http:", D20),1,0) -> #VALUE!
A21: 20 | B21: 435782084175478785 | C21: MISABarrie | D21: RT @ResearchChat Looking forward to #OERS14 A log of tweets (updated every hour) is available here: http://t.co/QdRsECdLQa | E21: Tue Feb 18 14:25:19 +0000 2014 | F21: 41688.601 | H21: en | K21: 861759625 | M21: web | N21: http://pbs.twimg.com/profile_images/3526591015/ce7cb0bddc152f41e5ccd02b45f322fa_normal.jpeg | O21: 68 | P21: 27 | Q21: -14400 | R21: http://twitter.com/MISABarrie/statuses/435782084175478785 | S21: {"symbols":[],"urls":[{"expanded_url":"http://ow.ly/tK2FR","indices":[101,123],"display_url":"ow.ly/tK2FR","url":"http://t.co/QdRsECdLQa"}],"hashtags":[{"text":"OERS14","indices":[36,43]}],"user_mentions":[{"id":30002337,"name":"Chris Conley","indices":[3,16],"screen_name":"ResearchChat","id_str":"30002337"}]} | T21: =LEFT(D21,3) -> RT | U21: =IF(SEARCH("RT", T21),1,0) -> 1 | V21: =LEFT(D21,35) -> RT @ResearchChat Looking forward to | W21: =IF(SEARCH("http:", D21),1,0) -> 1 | X21: ="http:"&MID(D21,FIND("/",D21,8),LEN(D21)+1-FIND("/",D21,8)) -> http://t.co/QdRsECdLQa
A22: 21 | B22: 435782344730243072 | C22: ResearchChat | D22: If you are at #OERS14 be sure to stop by the DUG poster and say 'Hi' #ResearchChat | E22: Tue Feb 18 14:26:22 +0000 2014 | F22: 41688.602 | H22: en | K22: 30002337 | M22: <a href="http://www.hootsuite.com" rel="nofollow">HootSuite</a> | N22: http://pbs.twimg.com/profile_images/146956830/Lighthouse_Lens2_normal.png | O22: 363 | P22: 169 | Q22: -18000 | R22: http://twitter.com/ResearchChat/statuses/435782344730243072 | S22: {"symbols":[],"urls":[],"hashtags":[{"text":"OERS14","indices":[14,21]},{"text":"ResearchChat","indices":[69,82]}],"user_mentions":[]} | T22: =LEFT(D22,3) -> If | U22: =IF(SEARCH("RT", T22),1,0) -> #VALUE! | V22: =LEFT(D22,35) -> If you are at #OERS14 be sure to st | W22: =IF(SEARCH("http:", D22),1,0) -> #VALUE!
A23: 22 | B23: 435784966514155520 | C23: CarolCampbell4 | D23: See you there RT @ResearchChat: If you are at #OERS14 be sure to stop by the DUG poster and say 'Hi' #ResearchChat” | E23: Tue Feb 18 14:36:47 +0000 2014 | F23: 41688.609 | H23: en | I23: 30002337 | J23: ResearchChat | K23: 300645437 | L23: 435782344730243072 | M23: <a href="http://twitter.com/#!/download/ipad" rel="nofollow">Twitter for iPad</a> | N23: http://pbs.twimg.com/profile_images/3691905443/d17541206d2df83dd49f40e17076abbc_normal.jpeg | O23: 737 | P23: 316 | Q23: -18000 | R23: http://twitter.com/CarolCampbell4/statuses/435784966514155520 | S23: {"symbols":[],"urls":[],"hashtags":[{"text":"OERS14","indices":[46,53]},{"text":"ResearchChat","indices":[101,114]}],"user_mentions":[{"id":30002337,"name":"Chris Conley","indices":[17,30],"screen_name":"ResearchChat","id_str":"30002337"}]} | T23: =LEFT(D23,3) -> See | U23: =IF(SEARCH("RT", T23),1,0) -> #VALUE! | V23: =LEFT(D23,35) -> See you there RT @ResearchChat: If | W23: =IF(SEARCH("http:", D23),1,0) -> #VALUE!
A24: 23 | B24: 435785640987602944 | C24: CarolCampbell4 | D24: Will be following the Twitterati! RT @ResearchChat: Looking forward to #OERS14. Log of tweets here: http://t.co/RjOHfnFiof @OISENews | E24: Tue Feb 18 14:39:27 +0000 2014 | F24: 41688.611 | H24: en | I24: 30002337 | J24: ResearchChat | K24: 300645437 | L24: 435781183944024064 | M24: <a href="http://twitter.com/#!/download/ipad" rel="nofollow">Twitter for iPad</a> | N24: http://pbs.twimg.com/profile_images/3691905443/d17541206d2df83dd49f40e17076abbc_normal.jpeg | O24: 737 | P24: 316 | Q24: -18000 | R24: http://twitter.com/CarolCampbell4/statuses/435785640987602944 | S24: {"symbols":[],"urls":[{"expanded_url":"http://ow.ly/tK2FR","indices":[101,123],"display_url":"ow.ly/tK2FR","url":"http://t.co/RjOHfnFiof"}],"hashtags":[{"text":"OERS14","indices":[71,78]}],"user_mentions":[{"id":30002337,"name":"Chris Conley","indices":[37,50],"screen_name":"ResearchChat","id_str":"30002337"},{"id":120129298,"name":"OISE News","indices":[124,133],"screen_name":"OISENews","id_str":"120129298"}]} | T24: =LEFT(D24,3) -> Wil | U24: =IF(SEARCH("RT", T24),1,0) -> #VALUE! | V24: =LEFT(D24,35) -> Will be following the Twitterati! R | W24: =IF(SEARCH("http:", D24),1,0) -> 1 | X24: ="http:"&MID(D24,FIND("/",D24,8),LEN(D24)+1-FIND("/",D24,8)) -> http://t.co/RjOHfnFiof @OISENews
A25: 24 | B25: 435792519029596160 | C25: ShastaCH | D25: RT @ResearchChat: Looking forward to #OERS14. A log of tweets (updated every hour) is available here: http://t.co/0vOI9BYwfw #ResearchCh… | E25: Tue Feb 18 15:06:47 +0000 2014 | F25: 41688.63 | H25: en | K25: 129585627 | M25: <a href="http://twitter.com/download/iphone" rel="nofollow">Twitter for iPhone</a> | N25: http://pbs.twimg.com/profile_images/2272274611/5wd7gucvwq2weh35c02q_normal.jpeg | O25: 151 | P25: 97 | Q25: -21600 | R25: http://twitter.com/ShastaCH/statuses/435792519029596160 | S25: {"symbols":[],"urls":[{"expanded_url":"http://ow.ly/tK2FR","indices":[105,127],"display_url":"ow.ly/tK2FR","url":"http://t.co/0vOI9BYwfw"}],"hashtags":[{"text":"OERS14","indices":[37,44]},{"text":"ResearchChat","indices":[128,140]}],"user_mentions":[{"id":30002337,"name":"Chris Conley","indices":[3,16],"screen_name":"ResearchChat","id_str":"30002337"}]} | T25: =LEFT(D25,3) -> RT | U25: =IF(SEARCH("RT", T25),1,0) -> 1 | V25: =LEFT(D25,35) -> RT @ResearchChat: Looking forward t | W25: =IF(SEARCH("http:", D25),1,0) -> 1 | X25: ="http:"&MID(D25,FIND("/",D25,8),LEN(D25)+1-FIND("/",D25,8)) -> http://t.co/0vOI9BYwfw #ResearchCh…
A26: 25 | B26: 435792672251326464 | C26: ShastaCH | D26: RT @ResearchChat: If you are at #OERS14 be sure to stop by the DUG poster and say 'Hi' #ResearchChat | E26: Tue Feb 18 15:07:24 +0000 2014 | F26: 41688.63 | H26: en | K26: 129585627 | M26: <a href="http://twitter.com/download/iphone" rel="nofollow">Twitter for iPhone</a> | N26: http://pbs.twimg.com/profile_images/2272274611/5wd7gucvwq2weh35c02q_normal.jpeg | O26: 151 | P26: 97 | Q26: -21600 | R26: http://twitter.com/ShastaCH/statuses/435792672251326464 | S26: {"symbols":[],"urls":[],"hashtags":[{"text":"OERS14","indices":[32,39]},{"text":"ResearchChat","indices":[87,100]}],"user_mentions":[{"id":30002337,"name":"Chris Conley","indices":[3,16],"screen_name":"ResearchChat","id_str":"30002337"}]} | T26: =LEFT(D26,3) -> RT | U26: =IF(SEARCH("RT", T26),1,0) -> 1 | V26: =LEFT(D26,35) -> RT @ResearchChat: If you are at #OE | W26: =IF(SEARCH("http:", D26),1,0) -> #VALUE!
A27: 26 | B27: 435797457499209728 | C27: caileycraw | D27: Looking forward to #OERS14! | E27: Tue Feb 18 15:26:25 +0000 2014 | F27: 41688.643 | H27: en | K27: 160170230 | M27: web | N27: http://pbs.twimg.com/profile_images/3055590969/8f9f8d659565e54f3b572b135a261673_normal.png | O27: 662 | P27: 477 | Q27: -18000 | R27: http://twitter.com/caileycraw/statuses/435797457499209728 | S27: {"symbols":[],"urls":[],"hashtags":[{"text":"OERS14","indices":[19,26]}],"user_mentions":[]} | T27: =LEFT(D27,3) -> Loo | U27: =IF(SEARCH("RT", T27),1,0) -> #VALUE! | V27: =LEFT(D27,35) -> Looking forward to #OERS14! | W27: =IF(SEARCH("http:", D27),1,0) -> #VALUE!
A28: 27 | B28: 435822154828222466 | C28: O3atORION | D28: Looking forward to attending #OERS14 ! Wondering what will be different from last yr. | E28: Tue Feb 18 17:04:33 +0000 2014 | F28: 41688.711 | H28: en | K28: 40576448 | M28: <a href="https://about.twitter.com/products/tweetdeck" rel="nofollow">TweetDeck</a> | N28: http://pbs.twimg.com/profile_images/2631441533/dd0ebcbc33a90ccdddc419f43d06c8f4_normal.jpeg | O28: 799 | P28: 1449 | Q28: -18000 | R28: http://twitter.com/O3atORION/statuses/435822154828222466 | S28: {"symbols":[],"urls":[],"hashtags":[{"text":"OERS14","indices":[29,36]}],"user_mentions":[]} | T28: =LEFT(D28,3) -> Loo | U28: =IF(SEARCH("RT", T28),1,0) -> #VALUE! | V28: =LEFT(D28,35) -> Looking forward to attending #OERS1 | W28: =IF(SEARCH("http:", D28),1,0) -> #VALUE!
A29: 28 | B29: 435828659950071810 | C29: AmaniElrofaie | D29: I am in #Toronto for the Ontario Education Research Symposium this week. Looking forward to every sec of it. Follow the discussion: #OERS14 | E29: Tue Feb 18 17:30:24 +0000 2014 | F29: 41688.729 | H29: en | K29: 121959456 | M29: <a href="http://twitter.com/download/android" rel="nofollow">Twitter for Android</a> | N29: http://pbs.twimg.com/profile_images/378800000263129784/0761da68796b3351af43e2a94a41dc92_normal.jpeg | O29: 161 | P29: 206 | Q29: -18000 | R29: http://twitter.com/AmaniElrofaie/statuses/435828659950071810 | S29: {"symbols":[],"urls":[],"hashtags":[{"text":"Toronto","indices":[8,16]},{"text":"OERS14","indices":[132,139]}],"user_mentions":[]} | T29: =LEFT(D29,3) -> I a | U29: =IF(SEARCH("RT", T29),1,0) -> #VALUE! | V29: =LEFT(D29,35) -> I am in #Toronto for the Ontario Ed | W29: =IF(SEARCH("http:", D29),1,0) -> #VALUE!
A30: 29 | B30: 435847600571691008 | C30: O3atORION | D30: We are on our way to #OERS14 .. exciting to setup and meet the community. | E30: Tue Feb 18 18:45:40 +0000 2014 | F30: 41688.782 | H30: en | K30: 40576448 | M30: <a href="https://about.twitter.com/products/tweetdeck" rel="nofollow">TweetDeck</a> | N30: http://pbs.twimg.com/profile_images/2631441533/dd0ebcbc33a90ccdddc419f43d06c8f4_normal.jpeg | O30: 799 | P30: 1450 | Q30: -18000 | R30: http://twitter.com/O3atORION/statuses/435847600571691008 | S30: {"symbols":[],"urls":[],"hashtags":[{"text":"OERS14","indices":[21,28]}],"user_mentions":[]} | T30: =LEFT(D30,3) -> We | U30: =IF(SEARCH("RT", T30),1,0) -> #VALUE! | V30: =LEFT(D30,35) -> We are on our way to #OERS14 .. exc | W30: =IF(SEARCH("http:", D30),1,0) -> #VALUE!
A31: 30 | B31: 435858392943722496 | C31: abbaspeaks | D31: #OERS14 (@ Toronto Marriott Downtown Eaton Centre - @marriottintl) http://t.co/SbCdr28yWb | E31: Tue Feb 18 19:28:33 +0000 2014 | F31: 41688.811 | G31: loc: 43.6546536,-79.382658 | H31: en | K31: 203543496 | M31: <a href="http://foursquare.com" rel="nofollow">foursquare</a> | N31: http://pbs.twimg.com/profile_images/420650358310838272/SYeVCvzi_normal.jpeg | O31: 389 | P31: 531 | Q31: -28800 | R31: http://twitter.com/abbaspeaks/statuses/435858392943722496 | S31: {"symbols":[],"urls":[{"expanded_url":"http://4sq.com/1mrzHjS","indices":[67,89],"display_url":"4sq.com/1mrzHjS","url":"http://t.co/SbCdr28yWb"}],"hashtags":[{"text":"OERS14","indices":[0,7]}],"user_mentions":[{"id":14140913,"name":"Marriott Internat\u0027l","indices":[52,65],"screen_name":"MarriottIntl","id_str":"14140913"}]} | T31: =LEFT(D31,3) -> #OE | U31: =IF(SEARCH("RT", T31),1,0) -> #VALUE! | V31: =LEFT(D31,35) -> #OERS14 (@ Toronto Marriott Downtow | W31: =IF(SEARCH("http:", D31),1,0) -> 1 | X31: ="http:"&MID(D31,FIND("/",D31,8),LEN(D31)+1-FIND("/",D31,8)) -> http://t.co/SbCdr28yWb
A32: 31 | B32: 435868724290023424 | C32: candymcewan | D32: Glad to have made it to TO for #OERS14 Excited to be part of an #amdsb presentation on our work at #dcvi | E32: Tue Feb 18 20:09:36 +0000 2014 | F32: 41688.84 | H32: en | K32: 84337876 | M32: <a href="http://twitter.com/#!/download/ipad" rel="nofollow">Twitter for iPad</a> | N32: http://pbs.twimg.com/profile_images/418561737411928064/bUejaXa5_normal.jpeg | O32: 182 | P32: 327 | Q32: -18000 | R32: http://twitter.com/candymcewan/statuses/435868724290023424 | S32: {"symbols":[],"urls":[],"hashtags":[{"text":"OERS14","indices":[31,38]},{"text":"amdsb","indices":[64,70]},{"text":"dcvi","indices":[99,104]}],"user_mentions":[]} | T32: =LEFT(D32,3) -> Gla | U32: =IF(SEARCH("RT", T32),1,0) -> #VALUE! | V32: =LEFT(D32,35) -> Glad to have made it to TO for #OER | W32: =IF(SEARCH("http:", D32),1,0) -> #VALUE!
A33: 32 | B33: 435873315186421760 | C33: O3atORION | D33: @MGrantORION at our booth. We will be here all of tomorrow and the day after ! #OERS14 http://t.co/gbbUISGTHI | E33: Tue Feb 18 20:27:51 +0000 2014 | F33: 41688.853 | H33: en | I33: 925946222 | J33: MGrantORION | K33: 40576448 | M33: <a href="http://twitter.com/download/android" rel="nofollow">Twitter for Android</a> | N33: http://pbs.twimg.com/profile_images/2631441533/dd0ebcbc33a90ccdddc419f43d06c8f4_normal.jpeg | O33: 801 | P33: 1452 | Q33: -18000 | R33: http://twitter.com/O3atORION/statuses/435873315186421760 | S33: {"symbols":[],"urls":[],"hashtags":[{"text":"OERS14","indices":[80,87]}],"media":[{"sizes":{"small":{"w":340,"resize":"fit","h":453},"thumb":{"w":150,"resize":"crop","h":150},"medium":{"w":600,"resize":"fit","h":800},"large":{"w":1024,"resize":"fit","h":1365}},"id":435873314670538752,"media_url_https":"https://pbs.twimg.com/media/BgyIeGgCcAAu-AT.jpg","media_url":"http://pbs.twimg.com/media/BgyIeGgCcAAu-AT.jpg","expanded_url":"http://twitter.com/O3atORION/status/435873315186421760/photo/1","indices":[88,110],"id_str":"435873314670538752","type":"photo","display_url":"pic.twitter.com/gbbUISGTHI","url":"http://t.co/gbbUISGTHI"}],"user_mentions":[{"id":925946222,"name":"Mark Grant","indices":[0,12],"screen_name":"MGrantORION","id_str":"925946222"}]} | T33: =LEFT(D33,3) -> @MG | U33: =IF(SEARCH("RT", T33),1,0) -> #VALUE! | V33: =LEFT(D33,35) -> @MGrantORION at our booth. We will | W33: =IF(SEARCH("http:", D33),1,0) -> 1 | X33: ="http:"&MID(D33,FIND("/",D33,8),LEN(D33)+1-FIND("/",D33,8)) -> http://t.co/gbbUISGTHI
A34: 33 | B34: 435874143221714944 | C34: abbaspeaks | D34: RT @O3atORION: @MGrantORION at our booth. We will be here all of tomorrow and the day after ! #OERS14 http://t.co/gbbUISGTHI | E34: Tue Feb 18 20:31:08 +0000 2014 | F34: 41688.855 | H34: en | K34: 203543496 | M34: <a href="http://twitter.com/download/android" rel="nofollow">Twitter for Android</a> | N34: http://pbs.twimg.com/profile_images/420650358310838272/SYeVCvzi_normal.jpeg | O34: 389 | P34: 531 | Q34: -28800 | R34: http://twitter.com/abbaspeaks/statuses/435874143221714944 | S34: {"symbols":[],"urls":[],"hashtags":[{"text":"OERS14","indices":[95,102]}],"media":[{"sizes":{"small":{"w":340,"resize":"fit","h":453},"thumb":{"w":150,"resize":"crop","h":150},"medium":{"w":600,"resize":"fit","h":800},"large":{"w":1024,"resize":"fit","h":1365}},"id":435873314670538752,"media_url_https":"https://pbs.twimg.com/media/BgyIeGgCcAAu-AT.jpg","media_url":"http://pbs.twimg.com/media/BgyIeGgCcAAu-AT.jpg","expanded_url":"http://twitter.com/O3atORION/status/435873315186421760/photo/1","indices":[103,125],"id_str":"435873314670538752","type":"photo","display_url":"pic.twitter.com/gbbUISGTHI","url":"http://t.co/gbbUISGTHI"}],"user_mentions":[{"id":40576448,"name":"O3 Collaboration","indices":[3,13],"screen_name":"O3atORION","id_str":"40576448"},{"id":925946222,"name":"Mark Grant","indices":[15,27],"screen_name":"MGrantORION","id_str":"925946222"}]} | T34: =LEFT(D34,3) -> RT | U34: =IF(SEARCH("RT", T34),1,0) -> 1 | V34: =LEFT(D34,35) -> RT @O3atORION: @MGrantORION at our | W34: =IF(SEARCH("http:", D34),1,0) -> 1 | X34: ="http:"&MID(D34,FIND("/",D34,8),LEN(D34)+1-FIND("/",D34,8)) -> http://t.co/gbbUISGTHI
A35: 34 | B35: 435876667400015872 | C35: giannahelling | D35: @TCDSB #OERS14 with Dr. Elliott-Johns, Perspectives on Transitions in Schooling and Instructional Practice http://t.co/eUKGUOdp6N | E35: Tue Feb 18 20:41:10 +0000 2014 | F35: 41688.862 | H35: en | I35: 388424709 | J35: TCDSB | K35: 466897873 | M35: <a href="http://blackberry.com/twitter" rel="nofollow">Twitter for BlackBerry®</a> | N35: http://pbs.twimg.com/profile_images/378800000758246288/011cbb98d5f24fca0c24dd77cdf31fdd_normal.jpeg | O35: 55 | P35: 123 | Q35: -21600 | R35: http://twitter.com/giannahelling/statuses/435876667400015872 | S35: {"symbols":[],"urls":[],"hashtags":[{"text":"OERS14","indices":[7,14]}],"media":[{"sizes":{"small":{"w":340,"resize":"fit","h":255},"thumb":{"w":150,"resize":"crop","h":150},"large":{"w":640,"resize":"fit","h":480},"medium":{"w":600,"resize":"fit","h":450}},"id":435876667295154176,"media_url_https":"https://pbs.twimg.com/media/BgyLhQACQAAfmAZ.jpg","media_url":"http://pbs.twimg.com/media/BgyLhQACQAAfmAZ.jpg","expanded_url":"http://twitter.com/giannahelling/status/435876667400015872/photo/1","indices":[108,130],"id_str":"435876667295154176","type":"photo","display_url":"pic.twitter.com/eUKGUOdp6N","url":"http://t.co/eUKGUOdp6N"}],"user_mentions":[{"id":388424709,"name":"Toronto Catholic DSB","indices":[0,6],"screen_name":"TCDSB","id_str":"388424709"}]} | T35: =LEFT(D35,3) -> @TC | U35: =IF(SEARCH("RT", T35),1,0) -> #VALUE! | V35: =LEFT(D35,35) -> @TCDSB #OERS14 with Dr. Elliott-Jo | W35: =IF(SEARCH("http:", D35),1,0) -> 1 | X35: ="http:"&MID(D35,FIND("/",D35,8),LEN(D35)+1-FIND("/",D35,8)) -> http://t.co/eUKGUOdp6N
A36: 35 | B36: 435916962711879680 | C36: OISENews | D36: Hello! Hey, new poster! "@CarolCampbell4: #oise #UofT is at #OERS14 Say hello to us! @UofTNews http://t.co/3hlnymjhzA" | E36: Tue Feb 18 23:21:17 +0000 2014 | F36: 41688.973 | H36: en | K36: 120129298 | M36: <a href="http://twitter.com/download/android" rel="nofollow">Twitter for Android</a> | N36: http://pbs.twimg.com/profile_images/378800000483716901/60cd288ab1fab8f218956809a7735be6_normal.jpeg | O36: 3672 | P36: 1401 | Q36: -18000 | R36: http://twitter.com/OISENews/statuses/435916962711879680 | S36: {"symbols":[],"urls":[],"hashtags":[{"text":"oise","indices":[42,47]},{"text":"UofT","indices":[48,53]},{"text":"OERS14","indices":[60,67]}],"media":[{"sizes":{"thumb":{"w":150,"resize":"crop","h":150},"small":{"w":340,"resize":"fit","h":254},"medium":{"w":600,"resize":"fit","h":448},"large":{"w":1024,"resize":"fit","h":764}},"media_url":"http://pbs.twimg.com/media/Bgyr8R0CQAA4pem.jpg","type":"photo","display_url":"pic.twitter.com/3hlnymjhzA","url":"http://t.co/3hlnymjhzA","id":435912316010250240,"media_url_https":"https://pbs.twimg.com/media/Bgyr8R0CQAA4pem.jpg","expanded_url":"http://twitter.com/CarolCampbell4/status/435912316224151552/photo/1","source_status_id_str":"435912316224151552","indices":[96,118],"source_status_id":435912316224151552,"id_str":"435912316010250240"}],"user_mentions":[{"id":300645437,"name":"Carol Campbell","indices":[25,40],"screen_name":"CarolCampbell4","id_str":"300645437"},{"id":109046256,"name":"UofT News","indices":[86,95],"screen_name":"UofTNews","id_str":"109046256"}]} | T36: =LEFT(D36,3) -> Hel | U36: =IF(SEARCH("RT", T36),1,0) -> #VALUE! | V36: =LEFT(D36,35) -> Hello! Hey, new poster! "@CarolCamp | W36: =IF(SEARCH("http:", D36),1,0) -> 1 | X36: ="http:"&MID(D36,FIND("/",D36,8),LEN(D36)+1-FIND("/",D36,8)) -> http://t.co/3hlnymjhzA"
A37: 36 | B37: 435891468029681664 | C37: ResearchChat | D37: Checked in, set up and logged on. I'm ready for #OERS14 | E37: Tue Feb 18 21:39:59 +0000 2014 | F37: 41688.903 | H37: en | K37: 30002337 | M37: <a href="http://www.hootsuite.com" rel="nofollow">HootSuite</a> | N37: http://pbs.twimg.com/profile_images/146956830/Lighthouse_Lens2_normal.png | O37: 363 | P37: 169 | Q37: -18000 | R37: http://twitter.com/ResearchChat/statuses/435891468029681664 | S37: {"symbols":[],"urls":[],"hashtags":[{"text":"OERS14","indices":[49,56]}],"user_mentions":[]} | T37: =LEFT(D37,3) -> Che | U37: =IF(SEARCH("RT", T37),1,0) -> #VALUE! | V37: =LEFT(D37,35) -> Checked in, set up and logged on. | W37: =IF(SEARCH("http:", D37),1,0) -> #VALUE!
A38: 37 | B38: 435892635341844480 | C38: PamelaOsmond | D38: RT @CarolCampbell4: Attending #OERS14 ? Say hello to @KNAER_RECRAE team, we're giving KNAER update &amp; workshop on #KMb tools @DrKatinaPolloc… | E38: Tue Feb 18 21:44:37 +0000 2014 | F38: 41688.906 | H38: en | K38: 2292838064 | M38: web | N38: http://pbs.twimg.com/profile_images/423476679353196544/9JYfmEBv_normal.jpeg | O38: 20 | P38: 82 | R38: http://twitter.com/PamelaOsmond/statuses/435892635341844480 | S38: {"symbols":[],"urls":[],"hashtags":[{"text":"OERS14","indices":[30,37]},{"text":"KMb","indices":[117,121]}],"user_mentions":[{"id":300645437,"name":"Carol Campbell","indices":[3,18],"screen_name":"CarolCampbell4","id_str":"300645437"},{"id":1020257364,"name":"KNAER-RECRAE","indices":[53,66],"screen_name":"KNAER_RECRAE","id_str":"1020257364"},{"id":636460073,"name":"Katina Pollock","indices":[143,144],"screen_name":"DrKatinaPollock","id_str":"636460073"},{"id":129585627,"name":"Shasta Carr-Harris","indices":[143,144],"screen_name":"ShastaCH","id_str":"129585627"},{"id":120129298,"name":"OISE News","indices":[143,144],"screen_name":"OISENews","id_str":"120129298"}]} | T38: =LEFT(D38,3) -> RT | U38: =IF(SEARCH("RT", T38),1,0) -> 1 | V38: =LEFT(D38,35) -> RT @CarolCampbell4: Attending #OERS | W38: =IF(SEARCH("http:", D38),1,0) -> #VALUE!
A39: 38 | B39: 435905569547759616 | C39: peachyteachy | D39: Who is going to #oers14 ? Presenting on how iPads remove barriers to accessing the curriculum. #nervous | E39: Tue Feb 18 22:36:01 +0000 2014 | F39: 41688.942 | H39: en | K39: 22331267 | M39: <a href="http://twitter.com/#!/download/ipad" rel="nofollow">Twitter for iPad</a> | N39: http://pbs.twimg.com/profile_images/3587177583/2678f6b5fae4006915a5135991e4def7_normal.png | O39: 369 | P39: 523 | Q39: -18000 | R39: http://twitter.com/peachyteachy/statuses/435905569547759616 | S39: {"symbols":[],"urls":[],"hashtags":[{"text":"oers14","indices":[16,23]},{"text":"nervous","indices":[95,103]}],"user_mentions":[]} | T39: =LEFT(D39,3) -> Who | U39: =IF(SEARCH("RT", T39),1,0) -> #VALUE! | V39: =LEFT(D39,35) -> Who is going to #oers14 ? Presentin | W39: =IF(SEARCH("http:", D39),1,0) -> #VALUE!
A40: 39 | B40: 435910032173981697 | C40: CarolCampbell4 | D40: Getting ready for #OERS14 Visit our @KNAER_RECRAE table for info about #KMb for #OntEd @ShastaCH @DrKatinaPollock http://t.co/rhltvth4Fc | E40: Tue Feb 18 22:53:45 +0000 2014 | F40: 41688.954 | H40: en | K40: 300645437 | M40: <a href="http://twitter.com/#!/download/ipad" rel="nofollow">Twitter for iPad</a> | N40: http://pbs.twimg.com/profile_images/3691905443/d17541206d2df83dd49f40e17076abbc_normal.jpeg | O40: 736 | P40: 316 | Q40: -18000 | R40: http://twitter.com/CarolCampbell4/statuses/435910032173981697 | S40: {"symbols":[],"urls":[],"hashtags":[{"text":"OERS14","indices":[18,25]},{"text":"KMb","indices":[71,75]},{"text":"OntEd","indices":[80,86]}],"media":[{"sizes":{"thumb":{"w":150,"resize":"crop","h":150},"small":{"w":340,"resize":"fit","h":455},"large":{"w":764,"resize":"fit","h":1024},"medium":{"w":599,"resize":"fit","h":804}},"id":435910032014598144,"media_url_https":"https://pbs.twimg.com/media/Bgyp3VRCYAAQkPb.jpg","media_url":"http://pbs.twimg.com/media/Bgyp3VRCYAAQkPb.jpg","expanded_url":"http://twitter.com/CarolCampbell4/status/435910032173981697/photo/1","indices":[114,136],"id_str":"435910032014598144","type":"photo","display_url":"pic.twitter.com/rhltvth4Fc","url":"http://t.co/rhltvth4Fc"}],"user_mentions":[{"id":1020257364,"name":"KNAER-RECRAE","indices":[36,49],"screen_name":"KNAER_RECRAE","id_str":"1020257364"},{"id":129585627,"name":"Shasta Carr-Harris","indices":[87,96],"screen_name":"ShastaCH","id_str":"129585627"},{"id":636460073,"name":"Katina Pollock","indices":[97,113],"screen_name":"DrKatinaPollock","id_str":"636460073"}]} | T40: =LEFT(D40,3) -> Get | U40: =IF(SEARCH("RT", T40),1,0) -> #VALUE! | V40: =LEFT(D40,35) -> Getting ready for #OERS14 Visit our | W40: =IF(SEARCH("http:", D40),1,0) -> 1 | X40: ="http:"&MID(D40,FIND("/",D40,8),LEN(D40)+1-FIND("/",D40,8)) -> http://t.co/rhltvth4Fc
...

Sheet Summary
B1: Filter | C1: Top Tweeters | D1: No. | E1: @'s | F1: % RT | G1: Twitter Activity | M1: Date Bin
B2: Link | C2: abbaspeaks | D2: 100 | E2: 29 | F2: 0.33 | I2: Number of links | J2: {=SUM(IF(ISERROR(FIND("http://",LOWER(Archive!D:D))),0,1))} -> 271 | M2: 41681
B3: Link | C3: ResearchChat | D3: 95 | E3: 134 | F3: 0.010526316 | I3: Number of RTs | J3: {=SUM(IF(ISERROR(FIND("RT",Archive!D:D)),0,1))} -> 565 | K3: <-estimate based on occurrence of RT | M3: =(((M$21-M$2)/20)*(ROW()-1))+M$2 -> 41681.9
B4: Link | C4: O3atORION | D4: 93 | E4: 43 | F4: 0.43010753 | I4: Number of Tweets | J4: =COUNTA(Archive!B:B)-1 -> 1280 | M4: =(((M$21-M$2)/20)*(ROW()-1))+M$2 -> 41682.35
B5: Link | C5: CarolCampbell4 | D5: 76 | E5: 129 | F5: 0.40789474 | I5: Unique tweets | J5: 1221 | K5: <-used to monitor quality of archive | M5: =(((M$21-M$2)/20)*(ROW()-1))+M$2 -> 41682.8
B6: Link | C6: KNAER_RECRAE | D6: 63 | E6: 147 | F6: 0.6031746 | I6: First Tweet in Archive | J6: =MIN(Archive!F:F) -> 41681.586 | K6: GMT | M6: =(((M$21-M$2)/20)*(ROW()-1))+M$2 -> 41683.25
B7: Link | C7: adrossis | D7: 55 | E7: 28 | F7: 0.36363636 | I7: Last Tweet in Archive | J7: =MAX(Archive!F:F) -> 41690.938 | K7: GMT | M7: =(((M$21-M$2)/20)*(ROW()-1))+M$2 -> 41683.7
B8: Link | C8: ShastaCH | D8: 50 | E8: 61 | F8: 0.9 | I8: In Reply Ids | J8: =COUNTA(Archive!L:L)-1 -> 108 | M8: =(((M$21-M$2)/20)*(ROW()-1))+M$2 -> 41684.15
B9: Link | C9: OhMissAcosta | D9: 36 | E9: 31 | F9: 0.083333333 | I9: In Reply @s | J9: 97 | M9: =(((M$21-M$2)/20)*(ROW()-1))+M$2 -> 41684.6
B10: Link | C10: giannahelling | D10: 35 | E10: 6 | F10: 0.37142857 | I10: Tweet rate (tw/min) | J10: =COUNTIF(Archive!F:F,(">"&(J7-(((1/24)/60)*10))))/10 -> 0.1 | K10: Tweets/min (from last archive 10mins) | M10: =(((M$21-M$2)/20)*(ROW()-1))+M$2 -> 41685.05
B11: Link | C11: DrKatinaPollock | D11: 34 | E11: 72 | F11: 0.97058824 | M11: =(((M$21-M$2)/20)*(ROW()-1))+M$2 -> 41685.5
B12: Link | C12: BrendaCourey | D12: 29 | E12: 9 | F12: 0.17241379 | I12: Tweets/Person Average | J12: =AVERAGE(D2:D) -> #NAME? | M12: =(((M$21-M$2)/20)*(ROW()-1))+M$2 -> 41685.95
B13: Link | C13: GerriGershon | D13: 29 | E13: 9 | F13: 0.31034483 | I13: Tweets/Person Median | J13: =MEDIAN(D2:D) -> #NAME? | M13: =(((M$21-M$2)/20)*(ROW()-1))+M$2 -> 41686.4
B14: Link | C14: dberrill | D14: 29 | E14: 14 | F14: #N/A:emptyOutput | M14: =(((M$21-M$2)/20)*(ROW()-1))+M$2 -> 41686.85
B15: Link | C15: westernulibsEDU | D15: 22 | E15: 6 | F15: 0.90909091 | I15: Public web views | J15: =HYPERLINK((("http://hawksey.info/tagsexplorer/?key="&returnID())&"&sheet=oaw"), "TAGS Explorer") -> #NAME? | K15: <- conversation explorer | M15: =(((M$21-M$2)/20)*(ROW()-1))+M$2 -> 41687.3
B16: Link | C16: taniasterling | D16: 21 | E16: 9 | F16: 0.47619048 | J16: =HYPERLINK(("http://hawksey.info/tagsexplorer/arc.html?key="&returnID()), "TAGS Archive") -> #NAME? | K16: <- searchable archive | M16: =(((M$21-M$2)/20)*(ROW()-1))+M$2 -> 41687.75
B17: Link | C17: AmaniElrofaie | D17: 20 | E17: 7 | F17: 0.1 | M17: =(((M$21-M$2)/20)*(ROW()-1))+M$2 -> 41688.2
B18: Link | C18: _DrDi | D18: 20 | E18: 17 | F18: 0.05 | M18: =(((M$21-M$2)/20)*(ROW()-1))+M$2 -> 41688.65
B19: Link | C19: LStevens2511 | D19: 15 | E19: 7 | F19: 0.46666667 | I19: Note | J19: Grey = calculated fields | M19: =(((M$21-M$2)/20)*(ROW()-1))+M$2 -> 41689.1
B20: Link | C20: drcathybruce | D20: 15 | E20: 33 | F20: 0.33333333 | J20: Blue = Require File > Published to the web | M20: =(((M$21-M$2)/20)*(ROW()-1))+M$2 -> 41689.55
B21: Link | C21: fdelk_nmc | D21: 15 | E21: 4 | F21: 0.066666667 | M21: 41690
B22: Link | C22: Anniekidder | D22: 13 | E22: 71 | F22: #N/A:emptyOutput
B23: Link | C23: professor_jess | D23: 13 | E23: 7 | F23: 0.23076923
B24: Link | C24: CheyRatnam | D24: 12 | E24: 6 | F24: 0.33333333
B25: Link | C25: OISENews | D25: 12 | E25: 64 | F25: 0.75
B26: Link | C26: annemariepetras | D26: 11 | E26: 3 | F26: 0.72727273
B27: Link | C27: lisacollimore | D27: 11 | E27: 4 | F27: 0.27272727
B28: Link | C28: rchids | D28: 11 | E28: 5 | F28: #N/A:emptyOutput
B29: Link | C29: SamKloetstra | D29: 10 | E29: 11 | F29: 0.5
B30: Link | C30: brandy_doan | D30: 10 | E30: 3 | F30: 0.4
B31: Link | C31: ACooperKMb | D31: 9 | E31: 11 | F31: 0.44444444
B32: Link | C32: candymcewan | D32: 9
B33: Link | C33: jmuellertate | D33: 9
B34: Link | C34: peachyteachy | D34: 8
B35: Link | C35: AngelaMercier1 | D35: 7
B36: Link | C36: MISABarrie | D36: 6
B37: Link | C37: cmorrissette1 | D37: 6
B38: Link | C38: emoyer2009 | D38: 6
B39: Link | C39: AlexCWiseman | D39: 5
B40: Link | C40: Errs5 | D40: 5
...

Sheet Dashboard
B1: ="TAGS Archive for "&Readme_Settings!B9 -> TAGS Archive for #OERS14
E2: Twitter activity - last 3 days | K2: Frequency | L2: Count | N2: Tweets | O2: Replies | Q2: Top Tweeter
B3: Archive Contains | C3: Archive Started | D3: Last tweet | K3: 41681 | L3: {=FREQUENCY(Archive!F:F,K3:K33)} -> 0 | M3: =ROUND($D$4,1)-3 -> 41687.9 | N3: {=FREQUENCY(Archive!F:F,M3:M148)} -> 13 | O3: 2 | Q3: =Summary!C2 -> abbaspeaks | R3: =Summary!D2 -> 100
B4: =Summary!J5&" Tweets" -> 1221 Tweets | C4: =Summary!J6 -> 41681.586 | D4: =Summary!J7 -> 41690.938 | K4: 41681.333 | L4: 0 | M4: =M3+(1/48) -> 41687.921 | N4: 0 | O4: 0 | Q4: =Summary!C3 -> ResearchChat | R4: =Summary!D3 -> 95
B5: =(((Summary!J2&" Links ")&Summary!J3)&" RTs Threads ")&IF((Summary!J5>0),(((TEXT((Summary!J8/Summary!J5),"#%")&" (n.")&Summary!J8)&")"),"") -> 271 Links 565 RTs Threads 9% (n.108) | K5: 41681.667 | L5: 1 | M5: =M4+(1/48) -> 41687.942 | N5: 0 | O5: 0 | Q5: =Summary!C4 -> O3atORION | R5: =Summary!D4 -> 93
K6: 41682 | L6: 0 | M6: =M5+(1/48) -> 41687.963 | N6: 0 | O6: 0 | Q6: =Summary!C5 -> CarolCampbell4 | R6: =Summary!D5 -> 76
K7: 41682.333 | L7: 0 | M7: =M6+(1/48) -> 41687.983 | N7: 0 | O7: 0 | Q7: =Summary!C6 -> KNAER_RECRAE | R7: =Summary!D6 -> 63
K8: 41682.667 | L8: 0 | M8: =M7+(1/48) -> 41688.004 | N8: 0 | O8: 0 | Q8: =Summary!C7 -> adrossis | R8: =Summary!D7 -> 55
K9: 41683 | L9: 0 | M9: =M8+(1/48) -> 41688.025 | N9: 0 | O9: 0 | Q9: =Summary!C8 -> ShastaCH | R9: =Summary!D8 -> 50
K10: 41683.333 | L10: 0 | M10: =M9+(1/48) -> 41688.046 | N10: 0 | O10: 0 | Q10: =Summary!C9 -> OhMissAcosta | R10: =Summary!D9 -> 36
K11: 41683.667 | L11: 0 | M11: =M10+(1/48) -> 41688.067 | N11: 0 | O11: 0 | Q11: =Summary!C10 -> giannahelling | R11: =Summary!D10 -> 35
K12: 41684 | L12: 0 | M12: =M11+(1/48) -> 41688.088 | N12: 0 | O12: 0 | Q12: =Summary!C11 -> DrKatinaPollock | R12: =Summary!D11 -> 34
K13: 41684.333 | L13: 0 | M13: =M12+(1/48) -> 41688.108 | N13: 0 | O13: 0 | Q13: Others | R13: =COUNTA(Summary!G:G)-COUNTA(Q2:Q12) -> -5
K14: 41684.667 | L14: 0 | M14: =M13+(1/48) -> 41688.129 | N14: 0 | O14: 0
K15: 41685 | L15: 1 | M15: =M14+(1/48) -> 41688.15 | N15: 0 | O15: 0
K16: 41685.333 | L16: 0 | M16: =M15+(1/48) -> 41688.171 | N16: 0 | O16: 0
K17: 41685.667 | L17: 0 | M17: =M16+(1/48) -> 41688.192 | N17: 0 | O17: 0
K18: 41686 | L18: 0 | M18: =M17+(1/48) -> 41688.213 | N18: 0 | O18: 0
K19: 41686.333 | L19: 0 | M19: =M18+(1/48) -> 41688.233 | N19: 0 | O19: 0
K20: 41686.667 | L20: 0 | M20: =M19+(1/48) -> 41688.254 | N20: 0 | O20: 0
K21: 41687 | L21: 0 | M21: =M20+(1/48) -> 41688.275 | N21: 0 | O21: 0
F22: Key | G22: Tweet | I22: Reply | K22: 41687.333 | L22: 5 | M22: =M21+(1/48) -> 41688.296 | N22: 0 | O22: 0
K23: 41687.667 | L23: 6 | M23: =M22+(1/48) -> 41688.317 | N23: 0 | O23: 0
K24: 41688 | L24: 0 | M24: =M23+(1/48) -> 41688.338 | N24: 0 | O24: 0
F25: Tweets with the most RTs from last 24hrs | G25: RTs | K25: 41688.333 | L25: 0 | M25: =M24+(1/48) -> 41688.358 | N25: 0 | O25: 0
F26: RT @ResearchChat: Prodigy game - Math RPG built on Ontario math curriculum and EQAO http://t.co/nnFgZH7Boz did I mention it is free? #OERS14 | G26: 8 | H26: http://twitter.com/baird_jess/statuses/436327522867769345 | I26: =IF((LEN(H26)>0),HYPERLINK(H26,"Tweet"),"") -> Tweet | K26: 41688.667 | L26: 13 | M26: =M25+(1/48) -> 41688.379 | N26: 0 | O26: 0
F27: RT @KNAER_RECRAE: Looking for education resources in French on various subjects? Check out http://t.co/zlnPXIMNlH #oers14 @OISENews @wester… | G27: 7 | H27: http://twitter.com/annemariepetras/statuses/436594219679895552 | I27: =IF((LEN(H27)>0),HYPERLINK(H27,"Tweet"),"") -> Tweet | K27: 41689 | L27: 15 | M27: =M26+(1/48) -> 41688.4 | N27: 0 | O27: 0
F28: RT @adrossis: Highlights of full-day kindergarten research: http://t.co/IoA8WpmcVy #OERS14 | G28: 5 | H28: http://twitter.com/annemariepetras/statuses/436594290882396160 | I28: =IF((LEN(H28)>0),HYPERLINK(H28,"Tweet"),"") -> Tweet | K28: 41689.333 | L28: 67 | M28: =M27+(1/48) -> 41688.421 | N28: 0 | O28: 0
F29: RT @drcathybruce: @CarolCampbell4 @KNAER_RECRAE @ShastaCH @DrKatinaPollock Tx for helping us consider diff kinds of KMb impact: Activity … | G29: 4 | H29: http://twitter.com/CarolCampbell4/statuses/436341283712684032 | I29: =IF((LEN(H29)>0),HYPERLINK(H29,"Tweet"),"") -> Tweet | K29: 41689.667 | L29: 274 | M29: =M28+(1/48) -> 41688.442 | N29: 0 | O29: 0
F30: RT @KNAER_RECRAE: Look at our partnerships! @DrKatinaPollock @CarolCampbell4 @westernuEdu @OISENews #OERS14 http://t.co/v8Gq4djTs8 | G30: 4 | H30: http://twitter.com/CarolCampbell4/statuses/436341620888596480 | I30: =IF((LEN(H30)>0),HYPERLINK(H30,"Tweet"),"") -> Tweet | K30: 41690 | L30: 387 | M30: =M29+(1/48) -> 41688.463 | N30: 1 | O30: 0
F31: RT @ResearchChat: "Blaming the internet is like blaming the library for ignorance" #OERS14 | G31: 4 | H31: http://twitter.com/LisaNewton3/statuses/436335080634478592 | I31: =IF((LEN(H31)>0),HYPERLINK(H31,"Tweet"),"") -> Tweet | K31: 41690.333 | L31: 151 | M31: =M30+(1/48) -> 41688.483 | N31: 0 | O31: 0
F32: RT @KNAER_RECRAE: Great discussions at our workshop today on building KMb plans! @ShastaCH @DrKatinaPollock @CarolCampbell4 @OISENews @west… | G32: 4 | H32: http://twitter.com/ShastaCH/statuses/436334554815541249 | I32: =IF((LEN(H32)>0),HYPERLINK(H32,"Tweet"),"") -> Tweet | K32: 41690.667 | L32: 208 | M32: =M31+(1/48) -> 41688.504 | N32: 0 | O32: 0
F33: RT @emoyer2009: #OERS14 pen and paper is still a very useful technology in the classroom today - need to make sure we aren't too dependent … | G33: 4 | H33: http://twitter.com/westernulibsEDU/statuses/436498763641659393 | I33: =IF((LEN(H33)>0),HYPERLINK(H33,"Tweet"),"") -> Tweet | K33: 41691 | L33: 152 | M33: =M32+(1/48) -> 41688.525 | N33: 0 | O33: 0
F34: RT @CarolCampbell4: Completely agree with @susanmdrake about brilliant teacher networks on Twitter #OERS14 @KNAER_RECRAE #KMb | G34: 4 | H34: http://twitter.com/SkLitNet/statuses/436521604647256064 | I34: =IF((LEN(H34)>0),HYPERLINK(H34,"Tweet"),"") -> Tweet | L34: 0 | M34: =M33+(1/48) -> 41688.546 | N34: 3 | O34: 0
F35: RT @ResearchChat: Last day of #OERS14. So far there have been 883 tweets and 231 links shared. An archive of tweets and summary here http… | G35: 4 | H35: http://twitter.com/ShastaCH/statuses/436544807415328768 | I35: =IF((LEN(H35)>0),HYPERLINK(H35,"Tweet"),"") -> Tweet | M35: =M34+(1/48) -> 41688.567 | N35: 0 | O35: 0
F36: RT @ResearchChat: The future is not something to be predicted, it is something to be achieved. Don Tapscott #OERS14 #ResearchChat | G36: 3 | H36: http://twitter.com/westernulibsEDU/statuses/436498913013424129 | I36: =IF((LEN(H36)>0),HYPERLINK(H36,"Tweet"),"") -> Tweet | M36: =M35+(1/48) -> 41688.588 | N36: 0 | O36: 0
F37: RT @O3atORION: "@ResearchChat: "Blaming the internet is like blaming the library for ignorance" #OERS14" sound bytes from Don Tapscott! | G37: 3 | H37: http://twitter.com/westernulibsEDU/statuses/436498829999734787 | I37: =IF((LEN(H37)>0),HYPERLINK(H37,"Tweet"),"") -> Tweet | M37: =M36+(1/48) -> 41688.608 | N37: 4 | O37: 0
H38: #VALUE!:blankIndicator: | M38: =M37+(1/48) -> 41688.629 | N38: 2 | O38: 2
B39: Web views | C39: =HYPERLINK((("http://hawksey.info/tagsexplorer/?key="&returnID())&"&sheet=oaw"), "TAGS Explorer") -> #NAME? | M39: =M38+(1/48) -> 41688.65 | N39: 3 | O39: 0
C40: =HYPERLINK(("http://hawksey.info/tagsexplorer/arc.html?key="&returnID()), "TAGS Archive") -> #NAME? | M40: =M39+(1/48) -> 41688.671 | N40: 0 | O40: 0
...

Sheet Readme_Settings
A1: TAGS v5.1
A2: Created by mhawksey. Read more about this at:
A3: http://mashe.hawksey.info/twitter-archive-tagsv5/
A4: With this spreadsheet you can:
A5: - automatically pull results from a Twitter Search into a Google Spreadsheet
A6: Instructions:
A7: 1. Click this button twice (once to authenticate, second to add custom menu) --> 2. Open TAGS > Twitter API Authentication and follow the instructions
A9: 3. Enter search term | B9: #OERS14 | C9: <- you can use serach operators like AND OR as well as from: and to: eg '#JobsNow AND from:BarackObama' (without quotes)
